BEGIN:VCALENDAR
VERSION:2.0
PRODID:-//StreamRadar//Match Calendar//EN
CALSCALE:GREGORIAN
METHOD:PUBLISH
X-WR-CALNAME:Westchester SC vs Richmond Kickers
X-WR-TIMEZONE:America/New_York
BEGIN:VEVENT
UID:match-5509600@streamradar.soccer
SUMMARY:Westchester SC vs Richmond Kickers
DTSTAMP:20260421T093623Z
DTSTART;TZID=America/New_York:20260916T190000
DTEND;TZID=America/New_York:20260916T210000
LOCATION:The Stadium at Memorial Field
DESCRIPTION:Где смотреть Westchester SC – Ричмонд Ки
 ерс в турнире США - USL League One. Прямая транс
 яция и телепрограмма.\nhttps://streamradar.soccer/ru/mat
 ch/5509600/westchester-sc-vs-richmond-kickers/
URL;VALUE=URI:https://streamradar.soccer/ru/match/5509600/westchester-sc-vs
 -richmond-kickers/
STATUS:CONFIRMED
END:VEVENT
END:VCALENDAR
