BEGIN:VCALENDAR
VERSION:2.0
PRODID:-//StreamRadar//Match Calendar//EN
CALSCALE:GREGORIAN
METHOD:PUBLISH
X-WR-CALNAME:Norrköping vs Rosengård
X-WR-TIMEZONE:America/New_York
BEGIN:VEVENT
UID:match-5509158@streamradar.soccer
SUMMARY:Norrköping vs Rosengård
DTSTAMP:20260425T192103Z
DTSTART;TZID=America/New_York:20260920T090000
DTEND;TZID=America/New_York:20260920T110000
LOCATION:Platinumcars Arena
DESCRIPTION:Где смотреть Norrköping – Rosengård в турн
 ре Швеция - Damallsvenskan. Прямая трансляция и 
 елепрограмма.\nhttps://streamradar.soccer/ru/match/5509158/nor
 rkoping-vs-rosengard/
URL;VALUE=URI:https://streamradar.soccer/ru/match/5509158/norrkoping-vs-ros
 engard/
STATUS:CONFIRMED
END:VEVENT
END:VCALENDAR
