BEGIN:VCALENDAR
VERSION:2.0
PRODID:-//StreamRadar//Match Calendar//EN
CALSCALE:GREGORIAN
METHOD:PUBLISH
X-WR-CALNAME:Malmö FF vs Djurgården
X-WR-TIMEZONE:America/New_York
BEGIN:VEVENT
UID:match-5509157@streamradar.soccer
SUMMARY:Malmö FF vs Djurgården
DTSTAMP:20260425T192216Z
DTSTART;TZID=America/New_York:20260920T090000
DTEND;TZID=America/New_York:20260920T110000
LOCATION:Eleda Stadion
DESCRIPTION:Где смотреть Malmö FF – Djurgården в турни
 ре Швеция - Damallsvenskan. Прямая трансляция и т
 елепрограмма.\nhttps://streamradar.soccer/ru/match/5509157/malm
 o-ff-vs-djurgarden/
URL;VALUE=URI:https://streamradar.soccer/ru/match/5509157/malmo-ff-vs-djurg
 arden/
STATUS:CONFIRMED
END:VEVENT
END:VCALENDAR
