BEGIN:VCALENDAR
VERSION:2.0
PRODID:-//StreamRadar//Match Calendar//EN
CALSCALE:GREGORIAN
METHOD:PUBLISH
X-WR-CALNAME:Kristianstad vs Brommapojkarna
X-WR-TIMEZONE:America/New_York
BEGIN:VEVENT
UID:match-5509144@streamradar.soccer
SUMMARY:Kristianstad vs Brommapojkarna
DTSTAMP:20260422T005930Z
DTSTART;TZID=America/New_York:20260906T090000
DTEND;TZID=America/New_York:20260906T110000
LOCATION:Kristianstad Arena
DESCRIPTION:Где смотреть Kristianstad – Brommapojkarna в ту
 рнире Швеция - Damallsvenskan. Прямая трансляция
  и телепрограмма.\nhttps://streamradar.soccer/ru/match/550914
 4/kristianstad-vs-brommapojkarna/
URL;VALUE=URI:https://streamradar.soccer/ru/match/5509144/kristianstad-vs-b
 rommapojkarna/
STATUS:CONFIRMED
END:VEVENT
END:VCALENDAR
