BEGIN:VCALENDAR
VERSION:2.0
PRODID:-//StreamRadar//Match Calendar//EN
CALSCALE:GREGORIAN
METHOD:PUBLISH
X-WR-CALNAME:Eskilstuna United vs AIK
X-WR-TIMEZONE:America/New_York
BEGIN:VEVENT
UID:match-5509141@streamradar.soccer
SUMMARY:Eskilstuna United vs AIK
DTSTAMP:20260421T204154Z
DTSTART;TZID=America/New_York:20260906T090000
DTEND;TZID=America/New_York:20260906T110000
LOCATION:Tunavallen
DESCRIPTION:Где смотреть Eskilstuna United – AIK в турни
 ре Швеция - Damallsvenskan. Прямая трансляция и т
 елепрограмма.\nhttps://streamradar.soccer/ru/match/5509141/eski
 lstuna-united-vs-aik/
URL;VALUE=URI:https://streamradar.soccer/ru/match/5509141/eskilstuna-united
 -vs-aik/
STATUS:CONFIRMED
END:VEVENT
END:VCALENDAR
