BEGIN:VCALENDAR
VERSION:2.0
PRODID:-//StreamRadar//Match Calendar//EN
CALSCALE:GREGORIAN
METHOD:PUBLISH
X-WR-CALNAME:Skeid vs Tromsdalen
X-WR-TIMEZONE:America/New_York
BEGIN:VEVENT
UID:match-5508973@streamradar.soccer
SUMMARY:Skeid vs Tromsdalen
DTSTAMP:20260424T063548Z
DTSTART;TZID=America/New_York:20260920T103000
DTEND;TZID=America/New_York:20260920T123000
DESCRIPTION:Где смотреть Skeid – Tromsdalen в турнире 
 Норвегия - 2. Divisjon. Прямая трансляция и тел
 епрограмма.\nhttps://streamradar.soccer/ru/match/5508973/skeid-vs
 -tromsdalen/
URL;VALUE=URI:https://streamradar.soccer/ru/match/5508973/skeid-vs-tromsdal
 en/
STATUS:CONFIRMED
END:VEVENT
END:VCALENDAR
