BEGIN:VCALENDAR
VERSION:2.0
PRODID:-//StreamRadar//Match Calendar//EN
CALSCALE:GREGORIAN
METHOD:PUBLISH
X-WR-CALNAME:Grorud vs Kjelsås
X-WR-TIMEZONE:America/New_York
BEGIN:VEVENT
UID:match-5508971@streamradar.soccer
SUMMARY:Grorud vs Kjelsås
DTSTAMP:20260424T063529Z
DTSTART;TZID=America/New_York:20260920T080000
DTEND;TZID=America/New_York:20260920T100000
LOCATION:Grorud Matchbane
DESCRIPTION:Где смотреть Grorud – Kjelsås в турнире 
 орвегия - 2. Divisjon. Прямая трансляция и тел
 программа.\nhttps://streamradar.soccer/ru/match/5508971/grorud-vs
 -kjelsas/
URL;VALUE=URI:https://streamradar.soccer/ru/match/5508971/grorud-vs-kjelsas
 /
STATUS:CONFIRMED
END:VEVENT
END:VCALENDAR
