BEGIN:VCALENDAR
VERSION:2.0
PRODID:-//StreamRadar//Match Calendar//EN
CALSCALE:GREGORIAN
METHOD:PUBLISH
X-WR-CALNAME:Rana vs Lørenskog
X-WR-TIMEZONE:America/New_York
BEGIN:VEVENT
UID:match-5508968@streamradar.soccer
SUMMARY:Rana vs Lørenskog
DTSTAMP:20260421T104101Z
DTSTART;TZID=America/New_York:20260913T070000
DTEND;TZID=America/New_York:20260913T090000
LOCATION:Sagbakken Stadion
DESCRIPTION:Где смотреть Rana – Лёренског в турн
 ире Норвегия - 2. Divisjon. Прямая трансляция и
  телепрограмма.\nhttps://streamradar.soccer/ru/match/5508968/r
 ana-vs-lorenskog/
URL;VALUE=URI:https://streamradar.soccer/ru/match/5508968/rana-vs-lorenskog
 /
STATUS:CONFIRMED
END:VEVENT
END:VCALENDAR
