BEGIN:VCALENDAR
VERSION:2.0
PRODID:-//StreamRadar//Match Calendar//EN
CALSCALE:GREGORIAN
METHOD:PUBLISH
X-WR-CALNAME:Stjørdals-Blink vs Eidsvold
X-WR-TIMEZONE:America/New_York
BEGIN:VEVENT
UID:match-5508960@streamradar.soccer
SUMMARY:Stjørdals-Blink vs Eidsvold
DTSTAMP:20260421T120424Z
DTSTART;TZID=America/New_York:20260905T070000
DTEND;TZID=America/New_York:20260905T090000
LOCATION:TMT Stadion Sandskogan
DESCRIPTION:Где смотреть Stjørdals-Blink – Eidsvold в тур
 нире Норвегия - 2. Divisjon. Прямая трансляция 
 и телепрограмма.\nhttps://streamradar.soccer/ru/match/5508960
 /stjordals-blink-vs-eidsvold/
URL;VALUE=URI:https://streamradar.soccer/ru/match/5508960/stjordals-blink-v
 s-eidsvold/
STATUS:CONFIRMED
END:VEVENT
END:VCALENDAR
