BEGIN:VCALENDAR
VERSION:2.0
PRODID:-//StreamRadar//Match Calendar//EN
CALSCALE:GREGORIAN
METHOD:PUBLISH
X-WR-CALNAME:Lyn vs Ranheim
X-WR-TIMEZONE:America/New_York
BEGIN:VEVENT
UID:match-5507624@streamradar.soccer
SUMMARY:Lyn vs Ranheim
DTSTAMP:20260425T205626Z
DTSTART;TZID=America/New_York:20260920T110000
DTEND;TZID=America/New_York:20260920T130000
DESCRIPTION:Где смотреть Lyn – Ранхейм в турнир
  Норвегия - OBOS-лигаен. Прямая трансляция 
  телепрограмма.\nhttps://streamradar.soccer/ru/match/5507624/
 lyn-vs-ranheim/
URL;VALUE=URI:https://streamradar.soccer/ru/match/5507624/lyn-vs-ranheim/
STATUS:CONFIRMED
END:VEVENT
END:VCALENDAR
