BEGIN:VCALENDAR
VERSION:2.0
PRODID:-//StreamRadar//Match Calendar//EN
CALSCALE:GREGORIAN
METHOD:PUBLISH
X-WR-CALNAME:Sogndal vs Strømmen
X-WR-TIMEZONE:America/New_York
BEGIN:VEVENT
UID:match-5507619@streamradar.soccer
SUMMARY:Sogndal vs Strømmen
DTSTAMP:20260421T133451Z
DTSTART;TZID=America/New_York:20260913T110000
DTEND;TZID=America/New_York:20260913T130000
LOCATION:Fosshaugane Campus
DESCRIPTION:Где смотреть Согндал – Стрёммен в 
 турнире Норвегия - OBOS-лигаен. Прямая тран
 ляция и телепрограмма.\nhttps://streamradar.soccer/ru/m
 atch/5507619/sogndal-vs-strommen/
URL;VALUE=URI:https://streamradar.soccer/ru/match/5507619/sogndal-vs-stromm
 en/
STATUS:CONFIRMED
END:VEVENT
END:VCALENDAR
