BEGIN:VCALENDAR
VERSION:2.0
PRODID:-//StreamRadar//Match Calendar//EN
CALSCALE:GREGORIAN
METHOD:PUBLISH
X-WR-CALNAME:Raufoss vs Odd
X-WR-TIMEZONE:America/New_York
BEGIN:VEVENT
UID:match-5507618@streamradar.soccer
SUMMARY:Raufoss vs Odd
DTSTAMP:20260421T181208Z
DTSTART;TZID=America/New_York:20260913T110000
DTEND;TZID=America/New_York:20260913T130000
LOCATION:NAMMO Stadion
DESCRIPTION:Где смотреть Рауфосс – Одд Гренла
 д в турнире Норвегия - OBOS-лигаен. Прямая т
 рансляция и телепрограмма.\nhttps://streamradar.socc
 er/ru/match/5507618/raufoss-vs-odd/
URL;VALUE=URI:https://streamradar.soccer/ru/match/5507618/raufoss-vs-odd/
STATUS:CONFIRMED
END:VEVENT
END:VCALENDAR
