BEGIN:VCALENDAR
VERSION:2.0
PRODID:-//StreamRadar//Match Calendar//EN
CALSCALE:GREGORIAN
METHOD:PUBLISH
X-WR-CALNAME:Bryne vs Stabæk
X-WR-TIMEZONE:America/New_York
BEGIN:VEVENT
UID:match-5507613@streamradar.soccer
SUMMARY:Bryne vs Stabæk
DTSTAMP:20260421T142107Z
DTSTART;TZID=America/New_York:20260913T110000
DTEND;TZID=America/New_York:20260913T130000
LOCATION:Bryne Stadion
DESCRIPTION:Где смотреть Брюне – Стабек в турн
 ире Норвегия - OBOS-лигаен. Прямая трансляц
 я и телепрограмма.\nhttps://streamradar.soccer/ru/match/550
 7613/bryne-vs-stabak/
URL;VALUE=URI:https://streamradar.soccer/ru/match/5507613/bryne-vs-stabak/
STATUS:CONFIRMED
END:VEVENT
END:VCALENDAR
