BEGIN:VCALENDAR
VERSION:2.0
PRODID:-//StreamRadar//Match Calendar//EN
CALSCALE:GREGORIAN
METHOD:PUBLISH
X-WR-CALNAME:Kongsvinger vs Raufoss
X-WR-TIMEZONE:America/New_York
BEGIN:VEVENT
UID:match-5507607@streamradar.soccer
SUMMARY:Kongsvinger vs Raufoss
DTSTAMP:20260421T144342Z
DTSTART;TZID=America/New_York:20260906T110000
DTEND;TZID=America/New_York:20260906T130000
LOCATION:Gjemselund Stadion
DESCRIPTION:Где смотреть Конгсвингер – Рауфос
 с в турнире Норвегия - OBOS-лигаен. Прямая т
 ансляция и телепрограмма.\nhttps://streamradar.socce
 r/ru/match/5507607/kongsvinger-vs-raufoss/
URL;VALUE=URI:https://streamradar.soccer/ru/match/5507607/kongsvinger-vs-ra
 ufoss/
STATUS:CONFIRMED
END:VEVENT
END:VCALENDAR
