BEGIN:VCALENDAR
VERSION:2.0
PRODID:-//StreamRadar//Match Calendar//EN
CALSCALE:GREGORIAN
METHOD:PUBLISH
X-WR-CALNAME:Åsane vs Hødd
X-WR-TIMEZONE:America/New_York
BEGIN:VEVENT
UID:match-5507605@streamradar.soccer
SUMMARY:Åsane vs Hødd
DTSTAMP:20260421T145751Z
DTSTART;TZID=America/New_York:20260906T110000
DTEND;TZID=America/New_York:20260906T130000
LOCATION:Asane Arena
DESCRIPTION:Где смотреть Осане – Хёдд в турнир
 е Норвегия - OBOS-лигаен. Прямая трансляция 
 и телепрограмма.\nhttps://streamradar.soccer/ru/match/5507605
 /asane-vs-hodd/
URL;VALUE=URI:https://streamradar.soccer/ru/match/5507605/asane-vs-hodd/
STATUS:CONFIRMED
END:VEVENT
END:VCALENDAR
