BEGIN:VCALENDAR
VERSION:2.0
PRODID:-//StreamRadar//Match Calendar//EN
CALSCALE:GREGORIAN
METHOD:PUBLISH
X-WR-CALNAME:Strømmen vs Stabæk
X-WR-TIMEZONE:America/New_York
BEGIN:VEVENT
UID:match-5507540@streamradar.soccer
SUMMARY:Strømmen vs Stabæk
DTSTAMP:20260422T193801Z
DTSTART;TZID=America/New_York:20260621T110000
DTEND;TZID=America/New_York:20260621T130000
DESCRIPTION:Где смотреть Стрёммен – Стабек в т
 урнире Норвегия - OBOS-лигаен. Прямая транс
 яция и телепрограмма.\nhttps://streamradar.soccer/ru/mat
 ch/5507540/strmmen-vs-stabk/
URL;VALUE=URI:https://streamradar.soccer/ru/match/5507540/strmmen-vs-stabk/
STATUS:CONFIRMED
END:VEVENT
END:VCALENDAR
