BEGIN:VCALENDAR
VERSION:2.0
PRODID:-//StreamRadar//Match Calendar//EN
CALSCALE:GREGORIAN
METHOD:PUBLISH
X-WR-CALNAME:Odd vs Hødd
X-WR-TIMEZONE:America/New_York
BEGIN:VEVENT
UID:match-5507537@streamradar.soccer
SUMMARY:Odd vs Hødd
DTSTAMP:20260422T205746Z
DTSTART;TZID=America/New_York:20260621T110000
DTEND;TZID=America/New_York:20260621T130000
LOCATION:Skagerak Arena
DESCRIPTION:Где смотреть Одд Гренланд – Хёдд в
  турнире Норвегия - OBOS-лигаен. Прямая тран
 сляция и телепрограмма.\nhttps://streamradar.soccer/ru/
 match/5507537/odd-vs-hdd/
URL;VALUE=URI:https://streamradar.soccer/ru/match/5507537/odd-vs-hdd/
STATUS:CONFIRMED
END:VEVENT
END:VCALENDAR
