BEGIN:VCALENDAR
VERSION:2.0
PRODID:-//StreamRadar//Match Calendar//EN
CALSCALE:GREGORIAN
METHOD:PUBLISH
X-WR-CALNAME:Athlone Town vs Kerry
X-WR-TIMEZONE:America/New_York
BEGIN:VEVENT
UID:match-5507397@streamradar.soccer
SUMMARY:Athlone Town vs Kerry
DTSTAMP:20260425T162330Z
DTSTART;TZID=America/New_York:20260918T144500
DTEND;TZID=America/New_York:20260918T164500
LOCATION:Lissywoollen
DESCRIPTION:Где смотреть Athlone Town – Kerry в турнир
  First Division. Прямая трансляция и телепрогра
 мма.\nhttps://streamradar.soccer/ru/match/5507397/athlone-town-vs-kerry/
URL;VALUE=URI:https://streamradar.soccer/ru/match/5507397/athlone-town-vs-k
 erry/
STATUS:CONFIRMED
END:VEVENT
END:VCALENDAR
