BEGIN:VCALENDAR
VERSION:2.0
PRODID:-//StreamRadar//Match Calendar//EN
CALSCALE:GREGORIAN
METHOD:PUBLISH
X-WR-CALNAME:Sandefjord vs Start
X-WR-TIMEZONE:America/New_York
BEGIN:VEVENT
UID:match-5506738@streamradar.soccer
SUMMARY:Sandefjord vs Start
DTSTAMP:20260425T192154Z
DTSTART;TZID=America/New_York:20260920T110000
DTEND;TZID=America/New_York:20260920T130000
LOCATION:Jotun Arena
DESCRIPTION:Где смотреть Саннефьорд – Старт в 
 турнире Норвегия - Элитесериен. Прямая тр
 ансляция и телепрограмма.\nhttps://streamradar.soccer
 /ru/match/5506738/sandefjord-vs-start/
URL;VALUE=URI:https://streamradar.soccer/ru/match/5506738/sandefjord-vs-sta
 rt/
STATUS:CONFIRMED
END:VEVENT
END:VCALENDAR
