BEGIN:VCALENDAR
VERSION:2.0
PRODID:-//StreamRadar//Match Calendar//EN
CALSCALE:GREGORIAN
METHOD:PUBLISH
X-WR-CALNAME:Viking vs Kristiansund
X-WR-TIMEZONE:America/New_York
BEGIN:VEVENT
UID:match-5506734@streamradar.soccer
SUMMARY:Viking vs Kristiansund
DTSTAMP:20260421T095933Z
DTSTART;TZID=America/New_York:20260913T110000
DTEND;TZID=America/New_York:20260913T130000
LOCATION:Lyse Arena
DESCRIPTION:Где смотреть Викинг – Кристиансун
 н в турнире Норвегия - Элитесериен. Пряма
  трансляция и телепрограмма.\nhttps://streamradar.
 soccer/ru/match/5506734/viking-vs-kristiansund/
URL;VALUE=URI:https://streamradar.soccer/ru/match/5506734/viking-vs-kristia
 nsund/
STATUS:CONFIRMED
END:VEVENT
END:VCALENDAR
