BEGIN:VCALENDAR
VERSION:2.0
PRODID:-//StreamRadar//Match Calendar//EN
CALSCALE:GREGORIAN
METHOD:PUBLISH
X-WR-CALNAME:Derry City vs Galway United
X-WR-TIMEZONE:America/New_York
BEGIN:VEVENT
UID:match-5506292@streamradar.soccer
SUMMARY:Derry City vs Galway United
DTSTAMP:20260425T174321Z
DTSTART;TZID=America/New_York:20260918T144500
DTEND;TZID=America/New_York:20260918T164500
LOCATION:The Ryan McBride Brandywell Stadium
DESCRIPTION:Где смотреть Дерри Сити – Galway United 
  турнире Premier Division. Прямая трансляция и т
 лепрограмма.\nhttps://streamradar.soccer/ru/match/5506292/derry
 -city-vs-galway-united/
URL;VALUE=URI:https://streamradar.soccer/ru/match/5506292/derry-city-vs-gal
 way-united/
STATUS:CONFIRMED
END:VEVENT
END:VCALENDAR
