BEGIN:VCALENDAR
VERSION:2.0
PRODID:-//StreamRadar//Match Calendar//EN
CALSCALE:GREGORIAN
METHOD:PUBLISH
X-WR-CALNAME:St Patrick's vs Shamrock Rovers
X-WR-TIMEZONE:America/New_York
BEGIN:VEVENT
UID:match-5506289@streamradar.soccer
SUMMARY:St Patrick's vs Shamrock Rovers
DTSTAMP:20260422T121530Z
DTSTART;TZID=America/New_York:20260911T144500
DTEND;TZID=America/New_York:20260911T164500
LOCATION:Richmond Park
DESCRIPTION:Где смотреть Сент-Патрикс Атлетик 
 – Шемрок Роверс в турнире Premier Division. Прям
 я трансляция и телепрограмма.\nhttps://streamrada
 r.soccer/ru/match/5506289/st-patricks-vs-shamrock-rovers/
URL;VALUE=URI:https://streamradar.soccer/ru/match/5506289/st-patricks-vs-sh
 amrock-rovers/
STATUS:CONFIRMED
END:VEVENT
END:VCALENDAR
