BEGIN:VCALENDAR
VERSION:2.0
PRODID:-//StreamRadar//Match Calendar//EN
CALSCALE:GREGORIAN
METHOD:PUBLISH
X-WR-CALNAME:Drogheda United vs Sligo Rovers
X-WR-TIMEZONE:America/New_York
BEGIN:VEVENT
UID:match-5506286@streamradar.soccer
SUMMARY:Drogheda United vs Sligo Rovers
DTSTAMP:20260425T132755Z
DTSTART;TZID=America/New_York:20260911T144500
DTEND;TZID=America/New_York:20260911T164500
LOCATION:Weavers Park
DESCRIPTION:Где смотреть Drogheda United – Слайго Ров
 ерс в турнире Premier Division. Прямая трансляци
  и телепрограмма.\nhttps://streamradar.soccer/ru/match/55062
 86/drogheda-united-vs-sligo-rovers/
URL;VALUE=URI:https://streamradar.soccer/ru/match/5506286/drogheda-united-v
 s-sligo-rovers/
STATUS:CONFIRMED
END:VEVENT
END:VCALENDAR
