BEGIN:VCALENDAR
VERSION:2.0
PRODID:-//StreamRadar//Match Calendar//EN
CALSCALE:GREGORIAN
METHOD:PUBLISH
X-WR-CALNAME:St Patrick's vs Sligo Rovers
X-WR-TIMEZONE:America/New_York
BEGIN:VEVENT
UID:match-5506239@streamradar.soccer
SUMMARY:St Patrick's vs Sligo Rovers
DTSTAMP:20260420T233531Z
DTSTART;TZID=America/New_York:20260619T144500
DTEND;TZID=America/New_York:20260619T164500
LOCATION:Richmond Park
DESCRIPTION:Где смотреть Сент-Патрикс Атлетик 
 – Слайго Роверс в турнире Premier Division. Прям
 я трансляция и телепрограмма.\nhttps://streamrada
 r.soccer/ru/match/5506239/st-patrick-s-vs-sligo-rovers/
URL;VALUE=URI:https://streamradar.soccer/ru/match/5506239/st-patrick-s-vs-s
 ligo-rovers/
STATUS:CONFIRMED
END:VEVENT
END:VCALENDAR
