BEGIN:VCALENDAR
VERSION:2.0
PRODID:-//StreamRadar//Match Calendar//EN
CALSCALE:GREGORIAN
METHOD:PUBLISH
X-WR-CALNAME:Halmstad vs AIK
X-WR-TIMEZONE:America/New_York
BEGIN:VEVENT
UID:match-5505859@streamradar.soccer
SUMMARY:Halmstad vs AIK
DTSTAMP:20260425T192107Z
DTSTART;TZID=America/New_York:20260920T090000
DTEND;TZID=America/New_York:20260920T110000
DESCRIPTION:Где смотреть Хальмстад – АИК в тур
 нире Швеция - Алсвенскан. Прямая трансляц
 ия и телепрограмма.\nhttps://streamradar.soccer/ru/match/55
 05859/halmstad-vs-aik/
URL;VALUE=URI:https://streamradar.soccer/ru/match/5505859/halmstad-vs-aik/
STATUS:CONFIRMED
END:VEVENT
END:VCALENDAR
