BEGIN:VCALENDAR
VERSION:2.0
PRODID:-//StreamRadar//Match Calendar//EN
CALSCALE:GREGORIAN
METHOD:PUBLISH
X-WR-CALNAME:Brommapojkarna vs IFK Göteborg
X-WR-TIMEZONE:America/New_York
BEGIN:VEVENT
UID:match-5505856@streamradar.soccer
SUMMARY:Brommapojkarna vs IFK Göteborg
DTSTAMP:20260425T174331Z
DTSTART;TZID=America/New_York:20260920T090000
DTEND;TZID=America/New_York:20260920T110000
LOCATION:Grimsta IP
DESCRIPTION:Где смотреть Броммапойкарна – Гёт
 еборг в турнире Швеция - Алсвенскан. Прям
 я трансляция и телепрограмма.\nhttps://streamrada
 r.soccer/ru/match/5505856/brommapojkarna-vs-ifk-goteborg/
URL;VALUE=URI:https://streamradar.soccer/ru/match/5505856/brommapojkarna-vs
 -ifk-goteborg/
STATUS:CONFIRMED
END:VEVENT
END:VCALENDAR
