BEGIN:VCALENDAR
VERSION:2.0
PRODID:-//StreamRadar//Match Calendar//EN
CALSCALE:GREGORIAN
METHOD:PUBLISH
X-WR-CALNAME:Sirius vs Degerfors
X-WR-TIMEZONE:America/New_York
BEGIN:VEVENT
UID:match-5505855@streamradar.soccer
SUMMARY:Sirius vs Degerfors
DTSTAMP:20260421T095655Z
DTSTART;TZID=America/New_York:20260913T090000
DTEND;TZID=America/New_York:20260913T110000
LOCATION:Studenternas IP
DESCRIPTION:Где смотреть Sirius – Дегерфорс в тур
 нире Швеция - Алсвенскан. Прямая трансляц
 ия и телепрограмма.\nhttps://streamradar.soccer/ru/match/55
 05855/sirius-vs-degerfors/
URL;VALUE=URI:https://streamradar.soccer/ru/match/5505855/sirius-vs-degerfo
 rs/
STATUS:CONFIRMED
END:VEVENT
END:VCALENDAR
