BEGIN:VCALENDAR
VERSION:2.0
PRODID:-//StreamRadar//Match Calendar//EN
CALSCALE:GREGORIAN
METHOD:PUBLISH
X-WR-CALNAME:Örgryte vs Hammarby
X-WR-TIMEZONE:America/New_York
BEGIN:VEVENT
UID:match-5505846@streamradar.soccer
SUMMARY:Örgryte vs Hammarby
DTSTAMP:20260421T095717Z
DTSTART;TZID=America/New_York:20260906T090000
DTEND;TZID=America/New_York:20260906T110000
LOCATION:Gamla Ullevi
DESCRIPTION:Где смотреть Эргрюте – Хаммарбю в 
 турнире Швеция - Алсвенскан. Прямая транс
 ляция и телепрограмма.\nhttps://streamradar.soccer/ru/ma
 tch/5505846/orgryte-vs-hammarby/
URL;VALUE=URI:https://streamradar.soccer/ru/match/5505846/orgryte-vs-hammar
 by/
STATUS:CONFIRMED
END:VEVENT
END:VCALENDAR
