BEGIN:VCALENDAR
VERSION:2.0
PRODID:-//StreamRadar//Match Calendar//EN
CALSCALE:GREGORIAN
METHOD:PUBLISH
X-WR-CALNAME:Sacramento Republic vs San Antonio
X-WR-TIMEZONE:America/New_York
BEGIN:VEVENT
UID:match-5505618@streamradar.soccer
SUMMARY:Sacramento Republic vs San Antonio
DTSTAMP:20260423T171549Z
DTSTART;TZID=America/New_York:20260920T190000
DTEND;TZID=America/New_York:20260920T210000
LOCATION:Heart Health Park
DESCRIPTION:Где смотреть Sacramento Republic – San Antonio в 
 турнире USL Championship. Прямая трансляция и те
 епрограмма.\nhttps://streamradar.soccer/ru/match/5505618/sacrame
 nto-republic-vs-san-antonio/
URL;VALUE=URI:https://streamradar.soccer/ru/match/5505618/sacramento-republ
 ic-vs-san-antonio/
STATUS:CONFIRMED
END:VEVENT
END:VCALENDAR
