BEGIN:VCALENDAR
VERSION:2.0
PRODID:-//StreamRadar//Match Calendar//EN
CALSCALE:GREGORIAN
METHOD:PUBLISH
X-WR-CALNAME:San Antonio vs FC Tulsa
X-WR-TIMEZONE:America/New_York
BEGIN:VEVENT
UID:match-5505591@streamradar.soccer
SUMMARY:San Antonio vs FC Tulsa
DTSTAMP:20260421T104639Z
DTSTART;TZID=America/New_York:20260905T203000
DTEND;TZID=America/New_York:20260905T223000
LOCATION:Toyota Field
DESCRIPTION:Где смотреть San Antonio – FC Tulsa в турни
 е USL Championship. Прямая трансляция и телепрог
 рамма.\nhttps://streamradar.soccer/ru/match/5505591/san-antonio-vs-fc-
 tulsa/
URL;VALUE=URI:https://streamradar.soccer/ru/match/5505591/san-antonio-vs-fc
 -tulsa/
STATUS:CONFIRMED
END:VEVENT
END:VCALENDAR
