BEGIN:VCALENDAR
VERSION:2.0
PRODID:-//StreamRadar//Match Calendar//EN
CALSCALE:GREGORIAN
METHOD:PUBLISH
X-WR-CALNAME:Orange County SC vs Sacramento Republic
X-WR-TIMEZONE:America/New_York
BEGIN:VEVENT
UID:match-5505589@streamradar.soccer
SUMMARY:Orange County SC vs Sacramento Republic
DTSTAMP:20260421T165358Z
DTSTART;TZID=America/New_York:20260905T220000
DTEND;TZID=America/New_York:20260906T000000
LOCATION:Championship Soccer Stadium
DESCRIPTION:Где смотреть Orange County SC – Sacramento Republi
 c в турнире USL Championship. Прямая трансляция и 
 телепрограмма.\nhttps://streamradar.soccer/ru/match/5505589/or
 ange-county-sc-vs-sacramento-republic/
URL;VALUE=URI:https://streamradar.soccer/ru/match/5505589/orange-county-sc-
 vs-sacramento-republic/
STATUS:CONFIRMED
END:VEVENT
END:VCALENDAR
