BEGIN:VCALENDAR
VERSION:2.0
PRODID:-//StreamRadar//Match Calendar//EN
CALSCALE:GREGORIAN
METHOD:PUBLISH
X-WR-CALNAME:Portland Timbers vs Atlanta United
X-WR-TIMEZONE:America/New_York
BEGIN:VEVENT
UID:match-5505189@streamradar.soccer
SUMMARY:Portland Timbers vs Atlanta United
DTSTAMP:20260424T040710Z
DTSTART;TZID=America/New_York:20260919T223000
DTEND;TZID=America/New_York:20260920T003000
LOCATION:Providence Park
DESCRIPTION:Где смотреть Портленд Тимберс – Atl
 anta United в турнире MLS. Прямая трансляция и т
 лепрограмма.\nhttps://streamradar.soccer/ru/match/5505189/portl
 and-timbers-vs-atlanta-united/
URL;VALUE=URI:https://streamradar.soccer/ru/match/5505189/portland-timbers-
 vs-atlanta-united/
STATUS:CONFIRMED
END:VEVENT
END:VCALENDAR
