BEGIN:VCALENDAR
VERSION:2.0
PRODID:-//StreamRadar//Match Calendar//EN
CALSCALE:GREGORIAN
METHOD:PUBLISH
X-WR-CALNAME:Flamengo vs RB Bragantino
X-WR-TIMEZONE:America/New_York
BEGIN:VEVENT
UID:match-5504564@streamradar.soccer
SUMMARY:Flamengo vs RB Bragantino
DTSTAMP:20260424T051201Z
DTSTART;TZID=America/New_York:20260920T160000
DTEND;TZID=America/New_York:20260920T180000
DESCRIPTION:Где смотреть Фламенго – Брагантин
 о в турнире Бразилия - Бразилейран. Пряма
  трансляция и телепрограмма.\nhttps://streamradar.
 soccer/ru/match/5504564/flamengo-vs-rb-bragantino/
URL;VALUE=URI:https://streamradar.soccer/ru/match/5504564/flamengo-vs-rb-br
 agantino/
STATUS:CONFIRMED
END:VEVENT
END:VCALENDAR
