BEGIN:VCALENDAR
VERSION:2.0
PRODID:-//StreamRadar//Match Calendar//EN
CALSCALE:GREGORIAN
METHOD:PUBLISH
X-WR-CALNAME:Mirassol vs Vitória
X-WR-TIMEZONE:America/New_York
BEGIN:VEVENT
UID:match-5504558@streamradar.soccer
SUMMARY:Mirassol vs Vitória
DTSTAMP:20260421T092048Z
DTSTART;TZID=America/New_York:20260913T160000
DTEND;TZID=America/New_York:20260913T180000
DESCRIPTION:Где смотреть Mirassol – Витория в турн
 ире Бразилия - Бразилейран. Прямая трансл
 яция и телепрограмма.\nhttps://streamradar.soccer/ru/matc
 h/5504558/mirassol-vs-vitoria/
URL;VALUE=URI:https://streamradar.soccer/ru/match/5504558/mirassol-vs-vitor
 ia/
STATUS:CONFIRMED
END:VEVENT
END:VCALENDAR
