BEGIN:VCALENDAR
VERSION:2.0
PRODID:-//StreamRadar//Match Calendar//EN
CALSCALE:GREGORIAN
METHOD:PUBLISH
X-WR-CALNAME:Bahia vs Remo
X-WR-TIMEZONE:America/New_York
BEGIN:VEVENT
UID:match-5504552@streamradar.soccer
SUMMARY:Bahia vs Remo
DTSTAMP:20260421T092016Z
DTSTART;TZID=America/New_York:20260913T160000
DTEND;TZID=America/New_York:20260913T180000
LOCATION:Arena Fonte Nova
DESCRIPTION:Где смотреть Байя – Remo в турнире Б
 азилия - Бразилейран. Прямая трансляция 
  телепрограмма.\nhttps://streamradar.soccer/ru/match/5504552/
 bahia-vs-remo/
URL;VALUE=URI:https://streamradar.soccer/ru/match/5504552/bahia-vs-remo/
STATUS:CONFIRMED
END:VEVENT
END:VCALENDAR
