BEGIN:VCALENDAR
VERSION:2.0
PRODID:-//StreamRadar//Match Calendar//EN
CALSCALE:GREGORIAN
METHOD:PUBLISH
X-WR-CALNAME:Coritiba vs Mirassol
X-WR-TIMEZONE:America/New_York
BEGIN:VEVENT
UID:match-5504544@streamradar.soccer
SUMMARY:Coritiba vs Mirassol
DTSTAMP:20260421T104241Z
DTSTART;TZID=America/New_York:20260906T160000
DTEND;TZID=America/New_York:20260906T180000
DESCRIPTION:Где смотреть Коритиба – Mirassol в тур
 нире Бразилия - Бразилейран. Прямая транс
 ляция и телепрограмма.\nhttps://streamradar.soccer/ru/ma
 tch/5504544/coritiba-vs-mirassol/
URL;VALUE=URI:https://streamradar.soccer/ru/match/5504544/coritiba-vs-miras
 sol/
STATUS:CONFIRMED
END:VEVENT
END:VCALENDAR
