BEGIN:VCALENDAR
VERSION:2.0
PRODID:-//StreamRadar//Match Calendar//EN
CALSCALE:GREGORIAN
METHOD:PUBLISH
X-WR-CALNAME:RB Bragantino vs Bahia
X-WR-TIMEZONE:America/New_York
BEGIN:VEVENT
UID:match-5504542@streamradar.soccer
SUMMARY:RB Bragantino vs Bahia
DTSTAMP:20260421T104452Z
DTSTART;TZID=America/New_York:20260906T160000
DTEND;TZID=America/New_York:20260906T180000
DESCRIPTION:Где смотреть Брагантино – Байя в т
 урнире Бразилия - Бразилейран. Прямая тра
 нсляция и телепрограмма.\nhttps://streamradar.soccer/r
 u/match/5504542/rb-bragantino-vs-bahia/
URL;VALUE=URI:https://streamradar.soccer/ru/match/5504542/rb-bragantino-vs-
 bahia/
STATUS:CONFIRMED
END:VEVENT
END:VCALENDAR
