BEGIN:VCALENDAR
VERSION:2.0
PRODID:-//StreamRadar//Match Calendar//EN
CALSCALE:GREGORIAN
METHOD:PUBLISH
X-WR-CALNAME:Barracas Central vs Independiente Rivadavia
X-WR-TIMEZONE:America/New_York
BEGIN:VEVENT
UID:match-5504187@streamradar.soccer
SUMMARY:Barracas Central vs Independiente Rivadavia
DTSTAMP:20260423T095640Z
DTSTART;TZID=America/New_York:20260920T160000
DTEND;TZID=America/New_York:20260920T180000
LOCATION:Claudio Fabian Tapia
DESCRIPTION:Где смотреть Барракас Сентраль – 
 ндепендьенте Ривадавия в турнире Аргент
 ина - Примера дивизион Аргентины. Прямая 
 рансляция и телепрограмма.\nhttps://streamradar.soc
 cer/ru/match/5504187/barracas-central-vs-independiente-rivadavia/
URL;VALUE=URI:https://streamradar.soccer/ru/match/5504187/barracas-central-
 vs-independiente-rivadavia/
STATUS:CONFIRMED
END:VEVENT
END:VCALENDAR
