BEGIN:VCALENDAR
VERSION:2.0
PRODID:-//StreamRadar//Match Calendar//EN
CALSCALE:GREGORIAN
METHOD:PUBLISH
X-WR-CALNAME:Blumenthaler SV vs Habenhauser FV
X-WR-TIMEZONE:America/New_York
BEGIN:VEVENT
UID:match-5371821@streamradar.soccer
SUMMARY:Blumenthaler SV vs Habenhauser FV
DTSTAMP:20260421T093053Z
DTSTART;TZID=America/New_York:20260509T093000
DTEND;TZID=America/New_York:20260509T113000
LOCATION:Sportanlage Bunnsackerweg - Platz 1 (Bremen)
DESCRIPTION:Где смотреть Blumenthaler SV – Habenhauser FV в 
 урнире Германия - Оберлига. Прямая транс
 яция и телепрограмма.\nhttps://streamradar.soccer/ru/mat
 ch/5371821/blumenthaler-sv-vs-habenhauser-fv/
URL;VALUE=URI:https://streamradar.soccer/ru/match/5371821/blumenthaler-sv-v
 s-habenhauser-fv/
STATUS:CONFIRMED
END:VEVENT
END:VCALENDAR
