BEGIN:VCALENDAR
VERSION:2.0
PRODID:-//StreamRadar//Match Calendar//EN
CALSCALE:GREGORIAN
METHOD:PUBLISH
X-WR-CALNAME:Olympique Béja vs JS Omrane
X-WR-TIMEZONE:America/New_York
BEGIN:VEVENT
UID:match-5620960@streamradar.soccer
SUMMARY:Olympique Béja vs JS Omrane
DTSTAMP:20260425T115855Z
DTSTART;TZID=America/New_York:20260508T093000
DTEND;TZID=America/New_York:20260508T113000
LOCATION:Boujemaa Kmiti Stadium
DESCRIPTION:Onde ver Olympique Béja vs JS Omrane em Tunísia - Ligue Profe
 ssionnelle 1. Transmissão ao vivo e programação de TV.\nhttps://streamra
 dar.soccer/pt/match/5620960/olympique-beja-vs-js-omrane/
URL;VALUE=URI:https://streamradar.soccer/pt/match/5620960/olympique-beja-vs
 -js-omrane/
STATUS:CONFIRMED
END:VEVENT
END:VCALENDAR
