BEGIN:VCALENDAR
VERSION:2.0
PRODID:-//StreamRadar//Match Calendar//EN
CALSCALE:GREGORIAN
METHOD:PUBLISH
X-WR-CALNAME:Chattanooga Red Wolves vs Corpus Christi
X-WR-TIMEZONE:America/New_York
BEGIN:VEVENT
UID:match-5620869@streamradar.soccer
SUMMARY:Chattanooga Red Wolves vs Corpus Christi
DTSTAMP:20260425T115912Z
DTSTART;TZID=America/New_York:20260425T190000
DTEND;TZID=America/New_York:20260425T210000
LOCATION:CHI Memorial Stadium
DESCRIPTION:Onde ver Chattanooga Red Wolves vs Corpus Christi em Estados Un
 idos - USL Cup. Transmissão ao vivo e programação de TV.\nhttps://stream
 radar.soccer/pt/match/5620869/chattanooga-red-wolves-vs-corpus-christi/
URL;VALUE=URI:https://streamradar.soccer/pt/match/5620869/chattanooga-red-w
 olves-vs-corpus-christi/
STATUS:CONFIRMED
END:VEVENT
END:VCALENDAR
