BEGIN:VCALENDAR
VERSION:2.0
PRODID:-//StreamRadar//Match Calendar//EN
CALSCALE:GREGORIAN
METHOD:PUBLISH
X-WR-CALNAME:Lazio vs Internazionale
X-WR-TIMEZONE:America/New_York
BEGIN:VEVENT
UID:match-5620174@streamradar.soccer
SUMMARY:Lazio vs Internazionale
DTSTAMP:20260424T171129Z
DTSTART;TZID=America/New_York:20260513T150000
DTEND;TZID=America/New_York:20260513T170000
LOCATION:Stadio Olimpico
DESCRIPTION:Onde ver Lazio vs Internazionale em Copa da ItÃ¡lia. TransmissÃ
 £o ao vivo e programaÃ§Ã£o de TV.\nhttps://streamradar.soccer/pt/match/5620
 174/lazio-vs-internazionale/
URL;VALUE=URI:https://streamradar.soccer/pt/match/5620174/lazio-vs-internaz
 ionale/
STATUS:CONFIRMED
END:VEVENT
END:VCALENDAR
