BEGIN:VCALENDAR
VERSION:2.0
PRODID:-//StreamRadar//Match Calendar//EN
CALSCALE:GREGORIAN
METHOD:PUBLISH
X-WR-CALNAME:Hunters vs Khangarid
X-WR-TIMEZONE:America/New_York
BEGIN:VEVENT
UID:match-5619666@streamradar.soccer
SUMMARY:Hunters vs Khangarid
DTSTAMP:20260423T140423Z
DTSTART;TZID=America/New_York:20260507T060000
DTEND;TZID=America/New_York:20260507T080000
DESCRIPTION:Onde ver Hunters vs Khangarid em Mongólia - Premier League. Tr
 ansmissão ao vivo e programação de TV.\nhttps://streamradar.soccer/pt/ma
 tch/5619666/hunters-vs-khangarid/
URL;VALUE=URI:https://streamradar.soccer/pt/match/5619666/hunters-vs-khanga
 rid/
STATUS:CONFIRMED
END:VEVENT
END:VCALENDAR
