BEGIN:VCALENDAR
VERSION:2.0
PRODID:-//StreamRadar//Match Calendar//EN
CALSCALE:GREGORIAN
METHOD:PUBLISH
X-WR-CALNAME:Atlantis vs PuiU Helsinki
X-WR-TIMEZONE:America/New_York
BEGIN:VEVENT
UID:match-5619593@streamradar.soccer
SUMMARY:Atlantis vs PuiU Helsinki
DTSTAMP:20260423T140733Z
DTSTART;TZID=America/New_York:20260522T120000
DTEND;TZID=America/New_York:20260522T140000
LOCATION:Toolon Pallokentta
DESCRIPTION:Onde ver Atlantis vs PuiU Helsinki em Finlândia - Kakkonen. Tr
 ansmissão ao vivo e programação de TV.\nhttps://streamradar.soccer/pt/ma
 tch/5619593/atlantis-vs-puiu-helsinki/
URL;VALUE=URI:https://streamradar.soccer/pt/match/5619593/atlantis-vs-puiu-
 helsinki/
STATUS:CONFIRMED
END:VEVENT
END:VCALENDAR
