BEGIN:VCALENDAR
VERSION:2.0
PRODID:-//StreamRadar//Match Calendar//EN
CALSCALE:GREGORIAN
METHOD:PUBLISH
X-WR-CALNAME:Young Africans vs Singida Black Stars
X-WR-TIMEZONE:America/New_York
BEGIN:VEVENT
UID:match-5619563@streamradar.soccer
SUMMARY:Young Africans vs Singida Black Stars
DTSTAMP:20260424T005716Z
DTSTART;TZID=America/New_York:20260522T090000
DTEND;TZID=America/New_York:20260522T110000
LOCATION:Benjamin Mkapa National Stadium
DESCRIPTION:Onde ver Young Africans vs Singida Black Stars em Tanzania Prem
 ier League. Transmissão ao vivo e programação de TV.\nhttps://streamrada
 r.soccer/pt/match/5619563/young-africans-vs-singida-black-stars/
URL;VALUE=URI:https://streamradar.soccer/pt/match/5619563/young-africans-vs
 -singida-black-stars/
STATUS:CONFIRMED
END:VEVENT
END:VCALENDAR
