BEGIN:VCALENDAR
VERSION:2.0
PRODID:-//StreamRadar//Match Calendar//EN
CALSCALE:GREGORIAN
METHOD:PUBLISH
X-WR-CALNAME:VJS II vs KÃ¤Pa
X-WR-TIMEZONE:America/New_York
BEGIN:VEVENT
UID:match-5619541@streamradar.soccer
SUMMARY:VJS II vs KÃ¤Pa
DTSTAMP:20260423T140422Z
DTSTART;TZID=America/New_York:20260428T130000
DTEND;TZID=America/New_York:20260428T150000
DESCRIPTION:Onde ver VJS II vs KÃ¤Pa em FinlÃ¢ndia - Suomen Cup. TransmissÃ
 £o ao vivo e programaÃ§Ã£o de TV.\nhttps://streamradar.soccer/pt/match/5619
 541/vjs-ii-vs-kapa/
URL;VALUE=URI:https://streamradar.soccer/pt/match/5619541/vjs-ii-vs-kapa/
STATUS:CONFIRMED
END:VEVENT
END:VCALENDAR
