BEGIN:VCALENDAR
VERSION:2.0
PRODID:-//StreamRadar//Match Calendar//EN
CALSCALE:GREGORIAN
METHOD:PUBLISH
X-WR-CALNAME:Torpedo Moskva vs Yenisey
X-WR-TIMEZONE:America/New_York
BEGIN:VEVENT
UID:match-5619512@streamradar.soccer
SUMMARY:Torpedo Moskva vs Yenisey
DTSTAMP:20260424T060223Z
DTSTART;TZID=America/New_York:20260516T060000
DTEND;TZID=America/New_York:20260516T080000
LOCATION:Arena Khimki
DESCRIPTION:Onde ver Torpedo Moskva vs Yenisey em RÃºssia - FNL. TransmissÃ
 £o ao vivo e programaÃ§Ã£o de TV.\nhttps://streamradar.soccer/pt/match/5619
 512/torpedo-moskva-vs-yenisey/
URL;VALUE=URI:https://streamradar.soccer/pt/match/5619512/torpedo-moskva-vs
 -yenisey/
STATUS:CONFIRMED
END:VEVENT
END:VCALENDAR
