BEGIN:VCALENDAR
VERSION:2.0
PRODID:-//StreamRadar//Match Calendar//EN
CALSCALE:GREGORIAN
METHOD:PUBLISH
X-WR-CALNAME:Khovd vs Tuv Azarganuud
X-WR-TIMEZONE:America/New_York
BEGIN:VEVENT
UID:match-5618994@streamradar.soccer
SUMMARY:Khovd vs Tuv Azarganuud
DTSTAMP:20260422T120929Z
DTSTART;TZID=America/New_York:20260503T030000
DTEND;TZID=America/New_York:20260503T050000
DESCRIPTION:Onde ver Khovd vs Tuv Azarganuud em Mongólia - Premier League.
  Transmissão ao vivo e programação de TV.\nhttps://streamradar.soccer/pt
 /match/5618994/khovd-vs-tuv-azarganuud/
URL;VALUE=URI:https://streamradar.soccer/pt/match/5618994/khovd-vs-tuv-azar
 ganuud/
STATUS:CONFIRMED
END:VEVENT
END:VCALENDAR
