BEGIN:VCALENDAR
VERSION:2.0
PRODID:-//StreamRadar//Match Calendar//EN
CALSCALE:GREGORIAN
METHOD:PUBLISH
X-WR-CALNAME:Khoromkhon vs Tuv Azarganuud
X-WR-TIMEZONE:America/New_York
BEGIN:VEVENT
UID:match-5618989@streamradar.soccer
SUMMARY:Khoromkhon vs Tuv Azarganuud
DTSTAMP:20260422T121013Z
DTSTART;TZID=America/New_York:20260425T060000
DTEND;TZID=America/New_York:20260425T080000
LOCATION:Football Centre MFF (Ulan Bator (Ulaanbaatar))
DESCRIPTION:Onde ver Khoromkhon vs Tuv Azarganuud em Mongólia - Premier Le
 ague. Transmissão ao vivo e programação de TV.\nhttps://streamradar.socc
 er/pt/match/5618989/khoromkhon-vs-tuv-azarganuud/
URL;VALUE=URI:https://streamradar.soccer/pt/match/5618989/khoromkhon-vs-tuv
 -azarganuud/
STATUS:CONFIRMED
END:VEVENT
END:VCALENDAR
