BEGIN:VCALENDAR
VERSION:2.0
PRODID:-//StreamRadar//Match Calendar//EN
CALSCALE:GREGORIAN
METHOD:PUBLISH
X-WR-CALNAME:Jaro 2 vs Vps 2
X-WR-TIMEZONE:America/New_York
BEGIN:VEVENT
UID:match-5618935@streamradar.soccer
SUMMARY:Jaro 2 vs Vps 2
DTSTAMP:20260422T120702Z
DTSTART;TZID=America/New_York:20260521T120000
DTEND;TZID=America/New_York:20260521T140000
LOCATION:Project Liv Arena
DESCRIPTION:Onde ver Jaro 2 vs Vps 2 em Finlândia - Kakkonen. Transmissão
  ao vivo e programação de TV.\nhttps://streamradar.soccer/pt/match/561893
 5/jaro-2-vs-vps-2/
URL;VALUE=URI:https://streamradar.soccer/pt/match/5618935/jaro-2-vs-vps-2/
STATUS:CONFIRMED
END:VEVENT
END:VCALENDAR
